BEGIN:VCALENDAR
VERSION:2.0
PRODID:icalendar-ruby
CALSCALE:GREGORIAN
METHOD:PUBLISH
BEGIN:VTIMEZONE
TZID:Australia/Sydney
BEGIN:DAYLIGHT
DTSTART:20261004T030000
TZOFFSETFROM:+1000
TZOFFSETTO:+1100
RRULE:FREQ=YEARLY;BYDAY=1SU;BYMONTH=10
TZNAME:AEDT
END:DAYLIGHT
BEGIN:STANDARD
DTSTART:20260405T020000
TZOFFSETFROM:+1100
TZOFFSETTO:+1000
RRULE:FREQ=YEARLY;BYDAY=1SU;BYMONTH=4
TZNAME:AEST
END:STANDARD
END:VTIMEZONE
BEGIN:VEVENT
DTSTAMP:20260424T105025Z
UID:inspection_3012889
DTSTART;TZID=Australia/Sydney:20260430T110000
DTEND;TZID=Australia/Sydney:20260430T111500
CLASS:PUBLIC
CREATED:20260424T162824
DESCRIPTION: 
LAST-MODIFIED:20260424T162824
LOCATION:45 Osman Street\, BLAYNEY NSW 2799\, Australia
SUMMARY:45 Osman Street\,  Inspection
URL;VALUE=URI:http://www.bestwick.com.au/
END:VEVENT
END:VCALENDAR
